BEGIN:VCALENDAR
VERSION:2.0
PRODID:-//V F T C S - ECPv6.15.20//NONSGML v1.0//EN
CALSCALE:GREGORIAN
METHOD:PUBLISH
X-ORIGINAL-URL:https://viewfromthecheapseats.net
X-WR-CALDESC:Events for V F T C S
REFRESH-INTERVAL;VALUE=DURATION:PT1H
X-Robots-Tag:noindex
X-PUBLISHED-TTL:PT1H
BEGIN:VTIMEZONE
TZID:America/New_York
BEGIN:DAYLIGHT
TZOFFSETFROM:-0500
TZOFFSETTO:-0400
TZNAME:EDT
DTSTART:20140309T070000
END:DAYLIGHT
BEGIN:STANDARD
TZOFFSETFROM:-0400
TZOFFSETTO:-0500
TZNAME:EST
DTSTART:20141102T060000
END:STANDARD
BEGIN:DAYLIGHT
TZOFFSETFROM:-0500
TZOFFSETTO:-0400
TZNAME:EDT
DTSTART:20150308T070000
END:DAYLIGHT
BEGIN:STANDARD
TZOFFSETFROM:-0400
TZOFFSETTO:-0500
TZNAME:EST
DTSTART:20151101T060000
END:STANDARD
BEGIN:DAYLIGHT
TZOFFSETFROM:-0500
TZOFFSETTO:-0400
TZNAME:EDT
DTSTART:20160313T070000
END:DAYLIGHT
BEGIN:STANDARD
TZOFFSETFROM:-0400
TZOFFSETTO:-0500
TZNAME:EST
DTSTART:20161106T060000
END:STANDARD
END:VTIMEZONE
BEGIN:VEVENT
DTSTART;TZID=America/New_York:20150426T110000
DTEND;TZID=America/New_York:20150426T220000
DTSTAMP:20260420T101409
CREATED:20150210T173646Z
LAST-MODIFIED:20150210T173646Z
UID:141-1430046000-1430085600@viewfromthecheapseats.net
SUMMARY:Welcome To Rockville - Day 2
DESCRIPTION:Day 2 of Florida’s premiere destination hard rock / metal concert event\, featuring: \nSlipknot\, Godsmack\, Slash\, Breaking Benjamin\, Papa Roach and many more!
URL:https://viewfromthecheapseats.net/event/welcome-to-rockville-day-2/
LOCATION:Metropolitan Park\, 4110 Gator Bowl Boulevard\, Jacksonville\, FL\, 322202\, United States
END:VEVENT
BEGIN:VEVENT
DTSTART;TZID=America/New_York:20150425T110000
DTEND;TZID=America/New_York:20150425T230000
DTSTAMP:20260420T101409
CREATED:20150210T173501Z
LAST-MODIFIED:20150210T173501Z
UID:139-1429959600-1430002800@viewfromthecheapseats.net
SUMMARY:Welcome To Rockville Day 1
DESCRIPTION:Day 1 of Florida’s premier hard rock / metal destination concert\, featuring: \nKorn\, Marilyn Manson\, Slayer\, Ministry\, Halestorm and many more!
URL:https://viewfromthecheapseats.net/event/welcome-to-rockville-day-1/
LOCATION:Metropolitan Park\, 4110 Gator Bowl Boulevard\, Jacksonville\, FL\, 322202\, United States
END:VEVENT
BEGIN:VEVENT
DTSTART;TZID=America/New_York:20150308T170000
DTEND;TZID=America/New_York:20150308T210000
DTSTAMP:20260420T101409
CREATED:20150305T010829Z
LAST-MODIFIED:20150305T010829Z
UID:181-1425834000-1425848400@viewfromthecheapseats.net
SUMMARY:Orlando City Soccer Club v. New York City Football Club
DESCRIPTION:Initial home match for Orlando City Soccer Club! #FillTheBowl along with 60k other fans as we take on the New York City Football Club!
URL:https://viewfromthecheapseats.net/event/orlando-city-soccer-club-v-new-york-city-football-club/
LOCATION:Orlando Citrus Bowl Stadium\, 1 Citrus Bowl Pl\, Orlando\, FL\, 32805\, United States
END:VEVENT
BEGIN:VEVENT
DTSTART;TZID=America/New_York:20150307T140000
DTEND;TZID=America/New_York:20150307T210000
DTSTAMP:20260420T101409
CREATED:20150305T010028Z
LAST-MODIFIED:20150305T010028Z
UID:179-1425736800-1425762000@viewfromthecheapseats.net
SUMMARY:Bands\, Brews & BBQ - SeaWorld Orlando With Toby Keith
DESCRIPTION:Bands\, Brew & BBQ™\, Honoring America’s Heroes\nJoin us March 7-8\, 14-15\, 21-22 and 28-29 when Central Florida’s favorite BBQ festival returns for four sizzling weekends. With a special salute to America’s Heroes\, we will have special discounts and offers for all enlisted men and women and retirees from the military. \nBands\, Brew & BBQ features live concerts from top classic rock and country bands and artists\, the tastiest BBQ from Central Florida’s top local smokehouses\, plus SeaWorld’s own Sweet & Smokin’ Barbecue. This event is presented in partnership with USO of Central Florida\, an organization that has been lifting the spirits of America’s troops and their families over 70 years. \nToby Keith – Saturday March 7\nToby Keith has been one of the most consistent self-directed songwriters and hit makers of his era. From his first number one smash\, “Should’ve Been a Cowboy” to “I Love This Bar\,” his unparalleled success is strongly due to his songwriting\, which includes having written a number one song for 20 consecutive years. He has been honored with the Nashville Songwriters Association of International’s Songwriter/Artist of the Decade distinction and is a three-time BMI Country Songwriter/Artist of the Year. His albums have sold more than 40 million copies\, and his tours have drawn more than one million fans each year for the last 14 years.
URL:https://viewfromthecheapseats.net/event/bands-brews-bbq-seaworld-orlando-with-toby-keith/
LOCATION:SeaWorld Orlando\, 7007 Sea World Dr\, Orlando\, FL\, 32821\, United States
END:VEVENT
BEGIN:VEVENT
DTSTART;TZID=America/New_York:20150228T170000
DTEND;TZID=America/New_York:20150228T220000
DTSTAMP:20260420T101409
CREATED:20150210T162125Z
LAST-MODIFIED:20150210T162140Z
UID:134-1425142800-1425160800@viewfromthecheapseats.net
SUMMARY:Universal Studios Orlando Mardi Gras - Heart Live
DESCRIPTION:We will be returning to Universal Studios Orlando to see Heart perform live as part of the Mardi Gras concert series.
URL:https://viewfromthecheapseats.net/event/universal-studios-orlando-mardi-gras-heart-live/
LOCATION:Universal Studios Orlando\, 6000 Universal Blvd\, Orlando\, 32819\, United States
END:VEVENT
BEGIN:VEVENT
DTSTART;TZID=America/New_York:20150218T180000
DTEND;TZID=America/New_York:20150218T220000
DTSTAMP:20260420T101409
CREATED:20150210T162534Z
LAST-MODIFIED:20150210T162557Z
UID:135-1424282400-1424296800@viewfromthecheapseats.net
SUMMARY:NXT Tapings At Full Sail University
DESCRIPTION:We will be heading to Full Sail University to be a part of the NXT television tapings.
URL:https://viewfromthecheapseats.net/event/nxt-tapings-at-full-sail-university/
LOCATION:Full Sail University\, 141 University Park Dr\, Orlando\, FL\, 32792\, United States
END:VEVENT
BEGIN:VEVENT
DTSTART;TZID=America/New_York:20150215T080000
DTEND;TZID=America/New_York:20150215T170000
DTSTAMP:20260420T101409
CREATED:20150210T171633Z
LAST-MODIFIED:20150210T171633Z
UID:137-1423987200-1424019600@viewfromthecheapseats.net
SUMMARY:Daytona 500 Qualifying
DESCRIPTION:2015 brings a new twist to qualifying for the DAYTONA 500! For the first time ever DAYTONA 500 Qualifying Presented By Kroger\, which traditionally features single-car qualifying\, will switch to the group qualifying format to set the front row positions. The results from qualifying will also set the field for the Budweiser Duel At Daytona 150-mile qualifying races on Thursday\, Feb. 19. and the results from the Budweiser Duel will finalize the starting lineup for the DAYTONA 500.
URL:https://viewfromthecheapseats.net/event/daytona-500-qualifying/
LOCATION:Daytona International Speedway\, 1801 West International Speedway Boulevard\, Daytona\, FL\, 32114\, United States
END:VEVENT
BEGIN:VEVENT
DTSTART;TZID=America/New_York:20150214T170000
DTEND;TZID=America/New_York:20150214T220000
DTSTAMP:20260420T101409
CREATED:20150210T160933Z
LAST-MODIFIED:20150210T162215Z
UID:132-1423933200-1423951200@viewfromthecheapseats.net
SUMMARY:Universal Studios Mardi Gras - Jessie J Live
DESCRIPTION:We will be heading back to Universal Studios for Mardi Gras on 2/14 in hopes to throw beads to the crowd on a float! \n 
URL:https://viewfromthecheapseats.net/event/universal-studios-mardi-gras-jessie-j-live/
LOCATION:Universal Studios Orlando\, 6000 Universal Blvd\, Orlando\, 32819\, United States
END:VEVENT
BEGIN:VEVENT
DTSTART;TZID=America/New_York:20150213T180000
DTEND;TZID=America/New_York:20150213T235500
DTSTAMP:20260420T101409
CREATED:20150210T145350Z
LAST-MODIFIED:20150210T150442Z
UID:129-1423850400-1423871700@viewfromthecheapseats.net
SUMMARY:Anvil In Concert at West End Trading Co.
DESCRIPTION:Red Rabbit Entertainment + West End Live\nPresents: \nANVIL\nW/ Special Guests: \nLORD DYING (Relapse Records)\nSUNLORD\nSons Of Ragnar\nThrashaholica\nCoagulate\nAtlas \nFriday\, February 13\, 2015\nAges 18+ Welcome (Under 18 Allowed W/ Parent) \n$20 Advance – $25 Day Of Show\nDOORS @ 6pm!! \nWEST END LIVE\n202 S. Sanford Ave.\nOrlando / Sanford\, FL 32771 \nTo purchase advance tickets\, this link: http://www.ticketfly.com/event/739423-anvil-sanford/ \nLegendary metal act ANVIL (Best known for the VH1 Classic – The ANVIL Experience) brings there US tour to a stop in Central Florida. A long with one hell of a metal package featuring LORD DYING (on Relapse Records) and SUNLORD.
URL:https://viewfromthecheapseats.net/event/anvil-in-concert-at-west-end-trading-co/
LOCATION:West End Trading Co.\, 202 South Sanford Ave\, Sanford\, FL\, 32771\, United States
END:VEVENT
END:VCALENDAR